BEGIN:VCALENDAR
VERSION:2.0
PRODID:-//Graue Panther - ECPv6.15.16//NONSGML v1.0//EN
CALSCALE:GREGORIAN
METHOD:PUBLISH
X-ORIGINAL-URL:https://www.graue-panther-so.ch
X-WR-CALDESC:Veranstaltungen für Graue Panther
REFRESH-INTERVAL;VALUE=DURATION:PT1H
X-Robots-Tag:noindex
X-PUBLISHED-TTL:PT1H
BEGIN:VTIMEZONE
TZID:Europe/Berlin
BEGIN:DAYLIGHT
TZOFFSETFROM:+0100
TZOFFSETTO:+0200
TZNAME:CEST
DTSTART:20250330T010000
END:DAYLIGHT
BEGIN:STANDARD
TZOFFSETFROM:+0200
TZOFFSETTO:+0100
TZNAME:CET
DTSTART:20251026T010000
END:STANDARD
BEGIN:DAYLIGHT
TZOFFSETFROM:+0100
TZOFFSETTO:+0200
TZNAME:CEST
DTSTART:20260329T010000
END:DAYLIGHT
BEGIN:STANDARD
TZOFFSETFROM:+0200
TZOFFSETTO:+0100
TZNAME:CET
DTSTART:20261025T010000
END:STANDARD
BEGIN:DAYLIGHT
TZOFFSETFROM:+0100
TZOFFSETTO:+0200
TZNAME:CEST
DTSTART:20270328T010000
END:DAYLIGHT
BEGIN:STANDARD
TZOFFSETFROM:+0200
TZOFFSETTO:+0100
TZNAME:CET
DTSTART:20271031T010000
END:STANDARD
END:VTIMEZONE
BEGIN:VEVENT
DTSTART;TZID=Europe/Berlin:20260203T140000
DTEND;TZID=Europe/Berlin:20260203T140000
DTSTAMP:20260419T160401
CREATED:20251223T095303Z
LAST-MODIFIED:20251223T095303Z
UID:2871-1770127200-1770127200@www.graue-panther-so.ch
SUMMARY:Spaziergang
DESCRIPTION:Spazierroute wird jeweils vor Ort festgelegt. \nAuskunft erteilt Roland Känel\, Tel. 079 633 75 56
URL:https://www.graue-panther-so.ch/event/spaziergang-21/
LOCATION:Gewerbeschulhaus; Fussgängerbrücke
END:VEVENT
BEGIN:VEVENT
DTSTART;TZID=Europe/Berlin:20260210T143000
DTEND;TZID=Europe/Berlin:20260210T143000
DTSTAMP:20260419T160401
CREATED:20251223T093842Z
LAST-MODIFIED:20251223T093842Z
UID:2861-1770733800-1770733800@www.graue-panther-so.ch
SUMMARY:Generalversammlung
DESCRIPTION:Siehe separate Einladung mit Protokoll der letzten Generalversammlung als Beilagen.\nWir möchten euch auf folgende Artikel der Statuten aufmerksam machen:\nArt. 20 | Anträge von Mitgliedern\nAnträge von Mitgliedern an die GV sind dem Vorstand spätestens 5 Wochen vor dem\nfestgesetzten Datum der GV\, schriftlich und begründet einzureichen. \nNur für Mitglieder und geladene Gäste.
URL:https://www.graue-panther-so.ch/event/generalversammlung-2/
LOCATION:Restaurant «Roter Turm» Solothurn
END:VEVENT
BEGIN:VEVENT
DTSTART;TZID=Europe/Berlin:20260215T120000
DTEND;TZID=Europe/Berlin:20260215T120000
DTSTAMP:20260419T160401
CREATED:20251223T094848Z
LAST-MODIFIED:20251223T094848Z
UID:2866-1771156800-1771156800@www.graue-panther-so.ch
SUMMARY:"Gemeinsam statt einsam" / Mittagessen
DESCRIPTION:Jeden 3. Sonntag im Monat um 12.00 Uhr. Gemeinsames Mittagessen.\nRestaurant Alterszentrum Wengistein\, Solothurn. Bus Nr. 4\, Haltestelle St. Niklaus.\nAnmeldung erforderlich bis Mittwoch\, 11. Februar bei Eveline Zurflüh Tel. 076 831 30 15 oder eveline.zurflueh@grauepantherso.ch \nDer Anlass ist öffentlich
URL:https://www.graue-panther-so.ch/event/gemeinsam-statt-einsam-mittagessen-10/
LOCATION:Alterszentrum Wengistein\, Solothurn
END:VEVENT
BEGIN:VEVENT
DTSTART;TZID=Europe/Berlin:20260224T143000
DTEND;TZID=Europe/Berlin:20260224T143000
DTSTAMP:20260419T160401
CREATED:20251223T095625Z
LAST-MODIFIED:20251223T095625Z
UID:2875-1771943400-1771943400@www.graue-panther-so.ch
SUMMARY:Jassen und Spielen
DESCRIPTION:Auskunft erteilt: Margrith Eggimann Tel. 079 365 32 87
URL:https://www.graue-panther-so.ch/event/jassen-und-spielen-18/
LOCATION:Restaurant «Roter Turm» Solothurn
END:VEVENT
END:VCALENDAR