BEGIN:VCALENDAR
VERSION:2.0
PRODID:-//Graue Panther - ECPv6.15.16//NONSGML v1.0//EN
CALSCALE:GREGORIAN
METHOD:PUBLISH
X-ORIGINAL-URL:https://www.graue-panther-so.ch
X-WR-CALDESC:Veranstaltungen für Graue Panther
REFRESH-INTERVAL;VALUE=DURATION:PT1H
X-Robots-Tag:noindex
X-PUBLISHED-TTL:PT1H
BEGIN:VTIMEZONE
TZID:Europe/Berlin
BEGIN:DAYLIGHT
TZOFFSETFROM:+0100
TZOFFSETTO:+0200
TZNAME:CEST
DTSTART:20250330T010000
END:DAYLIGHT
BEGIN:STANDARD
TZOFFSETFROM:+0200
TZOFFSETTO:+0100
TZNAME:CET
DTSTART:20251026T010000
END:STANDARD
BEGIN:DAYLIGHT
TZOFFSETFROM:+0100
TZOFFSETTO:+0200
TZNAME:CEST
DTSTART:20260329T010000
END:DAYLIGHT
BEGIN:STANDARD
TZOFFSETFROM:+0200
TZOFFSETTO:+0100
TZNAME:CET
DTSTART:20261025T010000
END:STANDARD
BEGIN:DAYLIGHT
TZOFFSETFROM:+0100
TZOFFSETTO:+0200
TZNAME:CEST
DTSTART:20270328T010000
END:DAYLIGHT
BEGIN:STANDARD
TZOFFSETFROM:+0200
TZOFFSETTO:+0100
TZNAME:CET
DTSTART:20271031T010000
END:STANDARD
END:VTIMEZONE
BEGIN:VEVENT
DTSTART;TZID=Europe/Berlin:20260113T143000
DTEND;TZID=Europe/Berlin:20260113T143000
DTSTAMP:20260419T173337
CREATED:20251223T091550Z
LAST-MODIFIED:20251223T091650Z
UID:2859-1768314600-1768314600@www.graue-panther-so.ch
SUMMARY:Theaternachmittag mit der Seniorenbühne Biberist
DESCRIPTION:Organisation zusammen mit der\nReformierten Kirche Solothurn und den Pfarreien St. Marien/St. Ursen. \nDer Anlass ist öffentlich – mit Kollekte
URL:https://www.graue-panther-so.ch/event/theaternachmittag-mit-der-seniorenbuehne-biberist-2/
LOCATION:Pfarrsaal St. Martin\, Pfarrsaal St. Marien
END:VEVENT
BEGIN:VEVENT
DTSTART;TZID=Europe/Berlin:20260118T120000
DTEND;TZID=Europe/Berlin:20260118T120000
DTSTAMP:20260419T173337
CREATED:20251223T094619Z
LAST-MODIFIED:20251223T094619Z
UID:2863-1768737600-1768737600@www.graue-panther-so.ch
SUMMARY:"Gemeinsam statt einsam" / Mittagessen
DESCRIPTION:Jeden 3. Sonntag im Monat um 12.00 Uhr. Gemeinsames Mittagessen.\nRestaurant Alterszentrum Wengistein\, Solothurn. Bus Nr. 4\, Haltestelle St. Niklaus.\nAnmeldung erforderlich bis Mittwoch\, 14. Januar bei Eveline Zurflüh Tel. 076 831 30 15 oder eveline.zurflueh@grauepantherso.ch \nDer Anlass ist öffentlich
URL:https://www.graue-panther-so.ch/event/gemeinsam-statt-einsam-mittagessen-9/
LOCATION:Alterszentrum Wengistein\, Solothurn
END:VEVENT
BEGIN:VEVENT
DTSTART;TZID=Europe/Berlin:20260120T140000
DTEND;TZID=Europe/Berlin:20260120T140000
DTSTAMP:20260419T173337
CREATED:20251223T095155Z
LAST-MODIFIED:20251223T095155Z
UID:2869-1768917600-1768917600@www.graue-panther-so.ch
SUMMARY:Spaziergang
DESCRIPTION:Spazierroute wird jeweils vor Ort festgelegt. \nAuskunft erteilt Roland Känel\, Tel. 079 633 75 56
URL:https://www.graue-panther-so.ch/event/spaziergang-20/
LOCATION:Gewerbeschulhaus; Fussgängerbrücke
END:VEVENT
BEGIN:VEVENT
DTSTART;TZID=Europe/Berlin:20260127T143000
DTEND;TZID=Europe/Berlin:20260127T143000
DTSTAMP:20260419T173337
CREATED:20251223T095521Z
LAST-MODIFIED:20251223T095521Z
UID:2873-1769524200-1769524200@www.graue-panther-so.ch
SUMMARY:Jassen und Spielen
DESCRIPTION:Auskunft erteilt: Margrith Eggimann Tel. 079 365 32 87
URL:https://www.graue-panther-so.ch/event/jassen-und-spielen-17/
LOCATION:Restaurant «Roter Turm» Solothurn
END:VEVENT
END:VCALENDAR