BEGIN:VCALENDAR
VERSION:2.0
PRODID:-//Graue Panther - ECPv6.15.16//NONSGML v1.0//EN
CALSCALE:GREGORIAN
METHOD:PUBLISH
X-WR-CALNAME:Graue Panther
X-ORIGINAL-URL:https://www.graue-panther-so.ch
X-WR-CALDESC:Veranstaltungen für Graue Panther
REFRESH-INTERVAL;VALUE=DURATION:PT1H
X-Robots-Tag:noindex
X-PUBLISHED-TTL:PT1H
BEGIN:VTIMEZONE
TZID:Europe/Berlin
BEGIN:DAYLIGHT
TZOFFSETFROM:+0100
TZOFFSETTO:+0200
TZNAME:CEST
DTSTART:20240331T010000
END:DAYLIGHT
BEGIN:STANDARD
TZOFFSETFROM:+0200
TZOFFSETTO:+0100
TZNAME:CET
DTSTART:20241027T010000
END:STANDARD
BEGIN:DAYLIGHT
TZOFFSETFROM:+0100
TZOFFSETTO:+0200
TZNAME:CEST
DTSTART:20250330T010000
END:DAYLIGHT
BEGIN:STANDARD
TZOFFSETFROM:+0200
TZOFFSETTO:+0100
TZNAME:CET
DTSTART:20251026T010000
END:STANDARD
BEGIN:DAYLIGHT
TZOFFSETFROM:+0100
TZOFFSETTO:+0200
TZNAME:CEST
DTSTART:20260329T010000
END:DAYLIGHT
BEGIN:STANDARD
TZOFFSETFROM:+0200
TZOFFSETTO:+0100
TZNAME:CET
DTSTART:20261025T010000
END:STANDARD
END:VTIMEZONE
BEGIN:VEVENT
DTSTART;TZID=Europe/Berlin:20251202T143000
DTEND;TZID=Europe/Berlin:20251202T143000
DTSTAMP:20260419T185922
CREATED:20251027T144145Z
LAST-MODIFIED:20251027T144145Z
UID:2856-1764685800-1764685800@www.graue-panther-so.ch
SUMMARY:Jassen und Spielen
DESCRIPTION:Auskunft erteilt: Margrith Eggimann Tel. 079 365 32 87
URL:https://www.graue-panther-so.ch/event/jassen-und-spielen-16/
LOCATION:Restaurant «Roter Turm» Solothurn
END:VEVENT
BEGIN:VEVENT
DTSTART;TZID=Europe/Berlin:20251209T143000
DTEND;TZID=Europe/Berlin:20251209T143000
DTSTAMP:20260419T185922
CREATED:20251027T142419Z
LAST-MODIFIED:20251027T142419Z
UID:2842-1765290600-1765290600@www.graue-panther-so.ch
SUMMARY:Jahresabschluss
DESCRIPTION:Siehe separate Einladung mit Anmeldeschluss per 14.11.2025. \nDieser Anlass ist nur für Mitglieder!
URL:https://www.graue-panther-so.ch/event/jahresabschluss-2/
LOCATION:Alterszentrum Wengistein\, Solothurn
END:VEVENT
BEGIN:VEVENT
DTSTART;TZID=Europe/Berlin:20251216T105000
DTEND;TZID=Europe/Berlin:20251216T105000
DTSTAMP:20260419T185922
CREATED:20251027T143835Z
LAST-MODIFIED:20251027T143835Z
UID:2852-1765882200-1765882200@www.graue-panther-so.ch
SUMMARY:Wanderung - Jahresabschluss
DESCRIPTION:Wir treffen uns vor der Unterführungstreppe Hauptbahnhof Solothurn ca. 10:50 Uhr.\nAbfahrt nach Bellach 11:10 Uhr Gleis 2 / Ca. 30 Min. Spazieren\nMittagessen im Rest. Rössli Bellach. \nAuskunft erteilt Bruno Lisser Tel. 079 894 13 25  oder  Anton Flury Tel. 079 551 86 76
URL:https://www.graue-panther-so.ch/event/wanderung-jahresabschluss-2/
LOCATION:Solothurn HB
END:VEVENT
BEGIN:VEVENT
DTSTART;TZID=Europe/Berlin:20251216T140000
DTEND;TZID=Europe/Berlin:20251216T140000
DTSTAMP:20260419T185922
CREATED:20251027T141556Z
LAST-MODIFIED:20251027T141556Z
UID:2838-1765893600-1765893600@www.graue-panther-so.ch
SUMMARY:Spaziergang
DESCRIPTION:Spazierroute wird jeweils vor Ort festgelegt. \nAuskunft erteilt Roland Känel\, Tel. 079 633 75 56
URL:https://www.graue-panther-so.ch/event/spaziergang-19/
END:VEVENT
BEGIN:VEVENT
DTSTART;TZID=Europe/Berlin:20251221T120000
DTEND;TZID=Europe/Berlin:20251221T120000
DTSTAMP:20260419T185922
CREATED:20251027T143052Z
LAST-MODIFIED:20251027T143052Z
UID:2847-1766318400-1766318400@www.graue-panther-so.ch
SUMMARY:"Gemeinsam statt einsam" / Mittagessen
DESCRIPTION:Jeden 3. Sonntag im Monat um 12.00 Uhr. Gemeinsames Mittagessen.\nRestaurant Alterszentrum Wengistein\, Solothurn. Bus Nr. 4\, Haltestelle St. Niklaus.\nAnmeldung erforderlich bis Mittwoch\, 17. Dezember bei Eveline Zurflüh Tel. 076 831 30 15 oder eveline.zurflueh@grauepantherso.ch \nDer Anlass ist öffentlich
URL:https://www.graue-panther-so.ch/event/gemeinsam-statt-einsam-mittagessen-8/
LOCATION:Alterszentrum Wengistein\, Solothurn
END:VEVENT
END:VCALENDAR