BEGIN:VCALENDAR
VERSION:2.0
PRODID:-//Graue Panther - ECPv6.15.16//NONSGML v1.0//EN
CALSCALE:GREGORIAN
METHOD:PUBLISH
X-ORIGINAL-URL:https://www.graue-panther-so.ch
X-WR-CALDESC:Veranstaltungen für Graue Panther
REFRESH-INTERVAL;VALUE=DURATION:PT1H
X-Robots-Tag:noindex
X-PUBLISHED-TTL:PT1H
BEGIN:VTIMEZONE
TZID:Europe/Berlin
BEGIN:DAYLIGHT
TZOFFSETFROM:+0100
TZOFFSETTO:+0200
TZNAME:CEST
DTSTART:20240331T010000
END:DAYLIGHT
BEGIN:STANDARD
TZOFFSETFROM:+0200
TZOFFSETTO:+0100
TZNAME:CET
DTSTART:20241027T010000
END:STANDARD
BEGIN:DAYLIGHT
TZOFFSETFROM:+0100
TZOFFSETTO:+0200
TZNAME:CEST
DTSTART:20250330T010000
END:DAYLIGHT
BEGIN:STANDARD
TZOFFSETFROM:+0200
TZOFFSETTO:+0100
TZNAME:CET
DTSTART:20251026T010000
END:STANDARD
BEGIN:DAYLIGHT
TZOFFSETFROM:+0100
TZOFFSETTO:+0200
TZNAME:CEST
DTSTART:20260329T010000
END:DAYLIGHT
BEGIN:STANDARD
TZOFFSETFROM:+0200
TZOFFSETTO:+0100
TZNAME:CET
DTSTART:20261025T010000
END:STANDARD
END:VTIMEZONE
BEGIN:VEVENT
DTSTART;TZID=Europe/Berlin:20250826T143000
DTEND;TZID=Europe/Berlin:20250826T143000
DTSTAMP:20260420T012044
CREATED:20250811T133908Z
LAST-MODIFIED:20250811T133908Z
UID:2813-1756218600-1756218600@www.graue-panther-so.ch
SUMMARY:Vortrag
DESCRIPTION:Die Entstehung der Christkatholischen Kirche.\nPeter Wagner\, Präsident der Christkatholischen Kirche Solothurn\, informiert uns über deren Geschichte. Anschliessend Führung in der Franziskaner Kirche. \nDer Anlass ist öffentlich
URL:https://www.graue-panther-so.ch/event/vortrag/
LOCATION:Christ. Kath. Pfarreisaal – Rathausgasse 17
END:VEVENT
END:VCALENDAR