BEGIN:VCALENDAR
VERSION:2.0
PRODID:-//Graue Panther - ECPv6.15.16//NONSGML v1.0//EN
CALSCALE:GREGORIAN
METHOD:PUBLISH
X-WR-CALNAME:Graue Panther
X-ORIGINAL-URL:https://www.graue-panther-so.ch
X-WR-CALDESC:Veranstaltungen für Graue Panther
REFRESH-INTERVAL;VALUE=DURATION:PT1H
X-Robots-Tag:noindex
X-PUBLISHED-TTL:PT1H
BEGIN:VTIMEZONE
TZID:Europe/Berlin
BEGIN:DAYLIGHT
TZOFFSETFROM:+0100
TZOFFSETTO:+0200
TZNAME:CEST
DTSTART:20240331T010000
END:DAYLIGHT
BEGIN:STANDARD
TZOFFSETFROM:+0200
TZOFFSETTO:+0100
TZNAME:CET
DTSTART:20241027T010000
END:STANDARD
BEGIN:DAYLIGHT
TZOFFSETFROM:+0100
TZOFFSETTO:+0200
TZNAME:CEST
DTSTART:20250330T010000
END:DAYLIGHT
BEGIN:STANDARD
TZOFFSETFROM:+0200
TZOFFSETTO:+0100
TZNAME:CET
DTSTART:20251026T010000
END:STANDARD
BEGIN:DAYLIGHT
TZOFFSETFROM:+0100
TZOFFSETTO:+0200
TZNAME:CEST
DTSTART:20260329T010000
END:DAYLIGHT
BEGIN:STANDARD
TZOFFSETFROM:+0200
TZOFFSETTO:+0100
TZNAME:CET
DTSTART:20261025T010000
END:STANDARD
END:VTIMEZONE
BEGIN:VEVENT
DTSTART;TZID=Europe/Berlin:20250506T143000
DTEND;TZID=Europe/Berlin:20250506T143000
DTSTAMP:20260420T054829
CREATED:20250317T163437Z
LAST-MODIFIED:20250317T163437Z
UID:2718-1746541800-1746541800@www.graue-panther-so.ch
SUMMARY:Spitzbergen
DESCRIPTION:Spitzbergen als Hotspot der Klimaerwärmung.\nChristina Wehrli präsentiert uns mittels PowerPoint einen interessanten Vortrag über Spitzbergen.\nVorgängig gibt Sie uns eine Kurzinfo über die Expedition ihres Vaters auf Spitzbergen. \nDer Anlass ist öffentlich
URL:https://www.graue-panther-so.ch/event/spitzbergen/
LOCATION:Christ. Kath. Pfarreisaal – Rathausgasse 17
END:VEVENT
BEGIN:VEVENT
DTSTART;TZID=Europe/Berlin:20250513T131500
DTEND;TZID=Europe/Berlin:20250513T131500
DTSTAMP:20260420T054829
CREATED:20250317T171754Z
LAST-MODIFIED:20250317T171754Z
UID:2737-1747142100-1747142100@www.graue-panther-so.ch
SUMMARY:Wanderung
DESCRIPTION:Abfahrt nach Selzach 13:39 Uhr Gleis 5 (Zone 2)\, Ca. 1 Std. 40 Min\,\nDistanz: 5\,5 km\, Steigung 70m\, Gemütliches Beisammensein im Restaurant Moja in Bellach\,\nRückfahrt 2 Zonen. \nAuskunft erteilen Bruno Lisser Tel: 079/ 894 13 25 oder Anton Flury Tel: 079/ 551 86 76
URL:https://www.graue-panther-so.ch/event/wanderung-8/
LOCATION:Solothurn HB
END:VEVENT
BEGIN:VEVENT
DTSTART;TZID=Europe/Berlin:20250513T140000
DTEND;TZID=Europe/Berlin:20250513T140000
DTSTAMP:20260420T054829
CREATED:20250317T171555Z
LAST-MODIFIED:20250317T171555Z
UID:2746-1747144800-1747144800@www.graue-panther-so.ch
SUMMARY:Spaziergang
DESCRIPTION:Spazierroute wird jeweils vor Ort festgelegt. \nAuskunft erteilt Roland Känel\, Tel. 079 633 75 56
URL:https://www.graue-panther-so.ch/event/spaziergang-9/
LOCATION:Gewerbeschulhaus; Fussgängerbrücke
END:VEVENT
BEGIN:VEVENT
DTSTART;TZID=Europe/Berlin:20250518T120000
DTEND;TZID=Europe/Berlin:20250518T120000
DTSTAMP:20260420T054829
CREATED:20250317T164509Z
LAST-MODIFIED:20250317T164509Z
UID:2725-1747569600-1747569600@www.graue-panther-so.ch
SUMMARY:"Gemeinsam statt einsam" - Mittagessen
DESCRIPTION:Jeden 3. Sonntag im Monat um 12.00 Uhr. Gemeinsames Mittagessen.\nRestaurant Alterszentrum Wengistein\, Solothurn. Bus Nr. 4\, Haltestelle St. Niklaus.\nAnmeldung erforderlich bis Mittwoch\, 14. Mai. bei Eveline Zurflüh Tel. 076 831 30 15 oder eveline.zurflueh@grauepantherso.ch \nDer Anlass ist öffentlich
URL:https://www.graue-panther-so.ch/event/gemeinsam-statt-einsam-mittagessen-4/
LOCATION:Alterszentrum Wengistein\, Solothurn
END:VEVENT
BEGIN:VEVENT
DTSTART;TZID=Europe/Berlin:20250520T143000
DTEND;TZID=Europe/Berlin:20250520T143000
DTSTAMP:20260420T054829
CREATED:20250317T172349Z
LAST-MODIFIED:20250317T172349Z
UID:2754-1747751400-1747751400@www.graue-panther-so.ch
SUMMARY:Jassen und Spielen
DESCRIPTION:Auskunft erteilt: Margrith Eggimann Tel. 079 365 32 87
URL:https://www.graue-panther-so.ch/event/jassen-und-spielen-9/
LOCATION:Restaurant «Roter Turm» Solothurn
END:VEVENT
BEGIN:VEVENT
DTSTART;TZID=Europe/Berlin:20250527T143000
DTEND;TZID=Europe/Berlin:20250527T143000
DTSTAMP:20260420T054829
CREATED:20250317T171731Z
LAST-MODIFIED:20250317T171731Z
UID:2722-1748356200-1748356200@www.graue-panther-so.ch
SUMMARY:Unser Wald
DESCRIPTION:Wissenswertes über unser Wald.\nReferent Thomas Studer ist Revierförster Leberberg. \nDer Anlass ist öffentlich
URL:https://www.graue-panther-so.ch/event/unser-wald/
END:VEVENT
END:VCALENDAR