BEGIN:VCALENDAR
VERSION:2.0
PRODID:-//Graue Panther - ECPv6.15.16//NONSGML v1.0//EN
CALSCALE:GREGORIAN
METHOD:PUBLISH
X-ORIGINAL-URL:https://www.graue-panther-so.ch
X-WR-CALDESC:Veranstaltungen für Graue Panther
REFRESH-INTERVAL;VALUE=DURATION:PT1H
X-Robots-Tag:noindex
X-PUBLISHED-TTL:PT1H
BEGIN:VTIMEZONE
TZID:Europe/Berlin
BEGIN:DAYLIGHT
TZOFFSETFROM:+0100
TZOFFSETTO:+0200
TZNAME:CEST
DTSTART:20240331T010000
END:DAYLIGHT
BEGIN:STANDARD
TZOFFSETFROM:+0200
TZOFFSETTO:+0100
TZNAME:CET
DTSTART:20241027T010000
END:STANDARD
BEGIN:DAYLIGHT
TZOFFSETFROM:+0100
TZOFFSETTO:+0200
TZNAME:CEST
DTSTART:20250330T010000
END:DAYLIGHT
BEGIN:STANDARD
TZOFFSETFROM:+0200
TZOFFSETTO:+0100
TZNAME:CET
DTSTART:20251026T010000
END:STANDARD
BEGIN:DAYLIGHT
TZOFFSETFROM:+0100
TZOFFSETTO:+0200
TZNAME:CEST
DTSTART:20260329T010000
END:DAYLIGHT
BEGIN:STANDARD
TZOFFSETFROM:+0200
TZOFFSETTO:+0100
TZNAME:CET
DTSTART:20261025T010000
END:STANDARD
END:VTIMEZONE
BEGIN:VEVENT
DTSTART;TZID=Europe/Berlin:20250311T130000
DTEND;TZID=Europe/Berlin:20250311T130000
DTSTAMP:20260420T085027
CREATED:20250203T153847Z
LAST-MODIFIED:20250218T114344Z
UID:2682-1741698000-1741698000@www.graue-panther-so.ch
SUMMARY:Wanderung
DESCRIPTION:Treffpunkt Hauptbahnhof Solothurn 13.00 Uhr.\nAbfahrt nach Wangen an der Aare 13:16 Uhr Gleis 1 Zone 3\nWanderung ca. 1 Std 20 Min  4\,2km/h alles Flach\nGemütliches Beisammensein im Hotel Krone Wangen a/A \nAuskunft: Bruno Lisser 079/ 894 13 25 oder Anton Flury 079/ 551 86 76
URL:https://www.graue-panther-so.ch/event/wanderung-5/
LOCATION:Solothurn HB
END:VEVENT
BEGIN:VEVENT
DTSTART;TZID=Europe/Berlin:20250311T140000
DTEND;TZID=Europe/Berlin:20250311T140000
DTSTAMP:20260420T085027
CREATED:20241223T134501Z
LAST-MODIFIED:20241223T134501Z
UID:2676-1741701600-1741701600@www.graue-panther-so.ch
SUMMARY:Spaziergang
DESCRIPTION:Treffpunkt jeweils beim Gewerbeschulhaus\, Fussgängerbrücke. Spazierroute wird jeweils vor Ort festgelegt.\nAuskunft erteilt Roland Känel\, Tel. 079 633 75 56
URL:https://www.graue-panther-so.ch/event/spaziergang-8/
LOCATION:Gewerbeschulhaus; Fussgängerbrücke
END:VEVENT
BEGIN:VEVENT
DTSTART;TZID=Europe/Berlin:20250316T120000
DTEND;TZID=Europe/Berlin:20250316T120000
DTSTAMP:20260420T085027
CREATED:20241220T144418Z
LAST-MODIFIED:20241220T145025Z
UID:2650-1742126400-1742126400@www.graue-panther-so.ch
SUMMARY:"Gemeinsam statt einsam" - Mittagessen
DESCRIPTION:Es freut uns\, dir einen neuen Anlass vorzustellen\, welcher von unserer Präsidentin initialisiert wurde.\nJeden 3. Sonntag im Monat um 12.00 Uhr. Gemeinsames Mittagessen.\nRestaurant Alterszentrum Wengistein\, Solothurn. Bus Nr. 4\, Haltestelle St. Niklaus.\nAnmeldung erforderlich bis Dienstag\, 12.3. bei Eveline Zurflüh Tel. 076 831 30 15 oder eveline.zurflueh@grauepantherso.ch    Der Anlass ist öffentlich
URL:https://www.graue-panther-so.ch/event/gemeinsam-statt-einsam-mittagessen-3/
LOCATION:Alterszentrum Wengistein\, Solothurn
END:VEVENT
BEGIN:VEVENT
DTSTART;TZID=Europe/Berlin:20250318T143000
DTEND;TZID=Europe/Berlin:20250318T143000
DTSTAMP:20260420T085027
CREATED:20241223T133942Z
LAST-MODIFIED:20241223T133942Z
UID:2670-1742308200-1742308200@www.graue-panther-so.ch
SUMMARY:Jassen und Spielen
DESCRIPTION:Wird neu von Margrith Eggimann geleitet Tel. 079 365 32 87
URL:https://www.graue-panther-so.ch/event/jassen-und-spielen-6/
LOCATION:Restaurant «Roter Turm» Solothurn
END:VEVENT
BEGIN:VEVENT
DTSTART;TZID=Europe/Berlin:20250325T143000
DTEND;TZID=Europe/Berlin:20250325T143000
DTSTAMP:20260420T085027
CREATED:20241223T133518Z
LAST-MODIFIED:20241223T133518Z
UID:2664-1742913000-1742913000@www.graue-panther-so.ch
SUMMARY:Altersstrategie des Kantons Solothurn
DESCRIPTION:Vortrag über die Altersstrategie des Kanton Solothurn. Referent Roger Siegentaler\nDer Anlass ist öffentlich
URL:https://www.graue-panther-so.ch/event/altersstrategie-des-kantons-solothurn/
LOCATION:Christ. Kath. Pfarreisaal – Rathausgasse 17
END:VEVENT
END:VCALENDAR