BEGIN:VCALENDAR
VERSION:2.0
PRODID:-//Graue Panther - ECPv6.15.16//NONSGML v1.0//EN
CALSCALE:GREGORIAN
METHOD:PUBLISH
X-ORIGINAL-URL:https://www.graue-panther-so.ch
X-WR-CALDESC:Veranstaltungen für Graue Panther
REFRESH-INTERVAL;VALUE=DURATION:PT1H
X-Robots-Tag:noindex
X-PUBLISHED-TTL:PT1H
BEGIN:VTIMEZONE
TZID:Europe/Berlin
BEGIN:DAYLIGHT
TZOFFSETFROM:+0100
TZOFFSETTO:+0200
TZNAME:CEST
DTSTART:20240331T010000
END:DAYLIGHT
BEGIN:STANDARD
TZOFFSETFROM:+0200
TZOFFSETTO:+0100
TZNAME:CET
DTSTART:20241027T010000
END:STANDARD
BEGIN:DAYLIGHT
TZOFFSETFROM:+0100
TZOFFSETTO:+0200
TZNAME:CEST
DTSTART:20250330T010000
END:DAYLIGHT
BEGIN:STANDARD
TZOFFSETFROM:+0200
TZOFFSETTO:+0100
TZNAME:CET
DTSTART:20251026T010000
END:STANDARD
BEGIN:DAYLIGHT
TZOFFSETFROM:+0100
TZOFFSETTO:+0200
TZNAME:CEST
DTSTART:20260329T010000
END:DAYLIGHT
BEGIN:STANDARD
TZOFFSETFROM:+0200
TZOFFSETTO:+0100
TZNAME:CET
DTSTART:20261025T010000
END:STANDARD
END:VTIMEZONE
BEGIN:VEVENT
DTSTART;TZID=Europe/Berlin:20250204T143000
DTEND;TZID=Europe/Berlin:20250204T143000
DTSTAMP:20260420T101553
CREATED:20241223T132824Z
LAST-MODIFIED:20241223T132824Z
UID:2659-1738679400-1738679400@www.graue-panther-so.ch
SUMMARY:Generalversammlung
DESCRIPTION:Generalversammlung gemäss separater Einladung.\nAnträge bis spätestens am 27. Januar 2025 an unsere Präsidentin Eveline Zurflüh.\nGeneralversammlung nur für Mitglieder und geladene Gäste.
URL:https://www.graue-panther-so.ch/event/generalversammlung/
LOCATION:Restaurant «Roter Turm» Solothurn
END:VEVENT
BEGIN:VEVENT
DTSTART;TZID=Europe/Berlin:20250211T140000
DTEND;TZID=Europe/Berlin:20250211T140000
DTSTAMP:20260420T101553
CREATED:20241223T134354Z
LAST-MODIFIED:20241223T134354Z
UID:2674-1739282400-1739282400@www.graue-panther-so.ch
SUMMARY:Spaziergang
DESCRIPTION:Treffpunkt jeweils beim Gewerbeschulhaus\, Fussgängerbrücke. Spazierroute wird jeweils vor Ort festgelegt.\nAuskunft erteilt Roland Känel\, Tel. 079 633 75 56
URL:https://www.graue-panther-so.ch/event/spaziergang-7/
LOCATION:Gewerbeschulhaus; Fussgängerbrücke
END:VEVENT
BEGIN:VEVENT
DTSTART;TZID=Europe/Berlin:20250216T120000
DTEND;TZID=Europe/Berlin:20250216T120000
DTSTAMP:20260420T101553
CREATED:20241220T144018Z
LAST-MODIFIED:20241220T145127Z
UID:2647-1739707200-1739707200@www.graue-panther-so.ch
SUMMARY:"Gemeinsam statt einsam" - Mittagessen
DESCRIPTION:Es freut uns\, dir einen neuen Anlass vorzustellen\, welcher von unserer Präsidentin initialisiert wurde.\nJeden 3. Sonntag im Monat um 12.00 Uhr. Gemeinsames Mittagessen.\nRestaurant Alterszentrum Wengistein\, Solothurn. Bus Nr. 4\, Haltestelle St. Niklaus.\nAnmeldung erforderlich bis Dienstag\, 12.2. bei Eveline Zurflüh Tel. 076 831 30 15 oder eveline.zurflueh@grauepantherso.ch     Der Anlass ist öffentlich
URL:https://www.graue-panther-so.ch/event/gemeinsam-statt-einsam-mittagessen-2/
LOCATION:Alterszentrum Wengistein\, Solothurn
END:VEVENT
BEGIN:VEVENT
DTSTART;TZID=Europe/Berlin:20250218T143000
DTEND;TZID=Europe/Berlin:20250218T143000
DTSTAMP:20260420T101553
CREATED:20241223T133847Z
LAST-MODIFIED:20241223T133847Z
UID:2668-1739889000-1739889000@www.graue-panther-so.ch
SUMMARY:Jassen und Spielen
DESCRIPTION:Wird neu von Margrith Eggimann geleitet Tel. 079 365 32 87
URL:https://www.graue-panther-so.ch/event/jassen-und-spielen-5/
LOCATION:Restaurant «Roter Turm» Solothurn
END:VEVENT
BEGIN:VEVENT
DTSTART;TZID=Europe/Berlin:20250225T143000
DTEND;TZID=Europe/Berlin:20250225T143000
DTSTAMP:20260420T101553
CREATED:20241223T133221Z
LAST-MODIFIED:20241223T133221Z
UID:2661-1740493800-1740493800@www.graue-panther-so.ch
SUMMARY:Sicherheit im Alltag
DESCRIPTION:Vortrag der Kantonspolizei Solothurn\nEs ist eine Tatsache das vor allem Seniorinnen und Senioren immer wieder von Betrügern angegangen werden. Ob am Telefon oder auf der Strasse – Senioren können sich weniger energisch zur Wehr setzen als junge Erwachsene. Auch im Internet und den neuen Medien sind die Senioren in der Regel weniger vertraut oder gar überfordert und somit die einfacheren Opfer.\nDer Anlass ist öffentlich
URL:https://www.graue-panther-so.ch/event/sicherheit-im-alltag/
LOCATION:Christ. Kath. Pfarreisaal – Rathausgasse 17
END:VEVENT
END:VCALENDAR