BEGIN:VCALENDAR
VERSION:2.0
PRODID:-//Graue Panther - ECPv6.15.16//NONSGML v1.0//EN
CALSCALE:GREGORIAN
METHOD:PUBLISH
X-WR-CALNAME:Graue Panther
X-ORIGINAL-URL:https://www.graue-panther-so.ch
X-WR-CALDESC:Veranstaltungen für Graue Panther
REFRESH-INTERVAL;VALUE=DURATION:PT1H
X-Robots-Tag:noindex
X-PUBLISHED-TTL:PT1H
BEGIN:VTIMEZONE
TZID:Europe/Berlin
BEGIN:DAYLIGHT
TZOFFSETFROM:+0100
TZOFFSETTO:+0200
TZNAME:CEST
DTSTART:20250330T010000
END:DAYLIGHT
BEGIN:STANDARD
TZOFFSETFROM:+0200
TZOFFSETTO:+0100
TZNAME:CET
DTSTART:20251026T010000
END:STANDARD
BEGIN:DAYLIGHT
TZOFFSETFROM:+0100
TZOFFSETTO:+0200
TZNAME:CEST
DTSTART:20260329T010000
END:DAYLIGHT
BEGIN:STANDARD
TZOFFSETFROM:+0200
TZOFFSETTO:+0100
TZNAME:CET
DTSTART:20261025T010000
END:STANDARD
BEGIN:DAYLIGHT
TZOFFSETFROM:+0100
TZOFFSETTO:+0200
TZNAME:CEST
DTSTART:20270328T010000
END:DAYLIGHT
BEGIN:STANDARD
TZOFFSETFROM:+0200
TZOFFSETTO:+0100
TZNAME:CET
DTSTART:20271031T010000
END:STANDARD
END:VTIMEZONE
BEGIN:VEVENT
DTSTART;TZID=Europe/Berlin:20260414T131500
DTEND;TZID=Europe/Berlin:20260414T131500
DTSTAMP:20260419T144441
CREATED:20260219T080149Z
LAST-MODIFIED:20260219T080149Z
UID:2907-1776172500-1776172500@www.graue-panther-so.ch
SUMMARY:Wanderung
DESCRIPTION:Ab Solothurn nach Oberdorf 13.34 Uhr Kante C / Bus 1 / Ticket 2 Zonen\nCa. 1 Std 30 4.5 km 140 m abwärts.\nGemütliches Beisammensein Alterszentrum Wengistein. (Rückfahrt 2 Zonen). \nAuskunft erteilen:  Bruno Lisser Tel: 079/ 894 13 25\nAnton Flury Tel: 079/ 551 86 76
URL:https://www.graue-panther-so.ch/event/wanderung-13/
LOCATION:Solothurn HB
END:VEVENT
BEGIN:VEVENT
DTSTART;TZID=Europe/Berlin:20260414T140000
DTEND;TZID=Europe/Berlin:20260414T140000
DTSTAMP:20260419T144441
CREATED:20260219T080549Z
LAST-MODIFIED:20260219T080549Z
UID:2911-1776175200-1776175200@www.graue-panther-so.ch
SUMMARY:Spaziergang
DESCRIPTION:Spazierroute wird jeweils vor Ort festgelegt. \nAuskunft erteilt Roland Känel\, Tel. 079 633 75 56
URL:https://www.graue-panther-so.ch/event/spaziergang-23/
LOCATION:Gewerbeschulhaus; Fussgängerbrücke
END:VEVENT
END:VCALENDAR