BEGIN:VCALENDAR
VERSION:2.0
PRODID:-//Graue Panther - ECPv6.15.16//NONSGML v1.0//EN
CALSCALE:GREGORIAN
METHOD:PUBLISH
X-WR-CALNAME:Graue Panther
X-ORIGINAL-URL:https://www.graue-panther-so.ch
X-WR-CALDESC:Veranstaltungen für Graue Panther
REFRESH-INTERVAL;VALUE=DURATION:PT1H
X-Robots-Tag:noindex
X-PUBLISHED-TTL:PT1H
BEGIN:VTIMEZONE
TZID:Europe/Berlin
BEGIN:DAYLIGHT
TZOFFSETFROM:+0100
TZOFFSETTO:+0200
TZNAME:CEST
DTSTART:20250330T010000
END:DAYLIGHT
BEGIN:STANDARD
TZOFFSETFROM:+0200
TZOFFSETTO:+0100
TZNAME:CET
DTSTART:20251026T010000
END:STANDARD
BEGIN:DAYLIGHT
TZOFFSETFROM:+0100
TZOFFSETTO:+0200
TZNAME:CEST
DTSTART:20260329T010000
END:DAYLIGHT
BEGIN:STANDARD
TZOFFSETFROM:+0200
TZOFFSETTO:+0100
TZNAME:CET
DTSTART:20261025T010000
END:STANDARD
BEGIN:DAYLIGHT
TZOFFSETFROM:+0100
TZOFFSETTO:+0200
TZNAME:CEST
DTSTART:20270328T010000
END:DAYLIGHT
BEGIN:STANDARD
TZOFFSETFROM:+0200
TZOFFSETTO:+0100
TZNAME:CET
DTSTART:20271031T010000
END:STANDARD
END:VTIMEZONE
BEGIN:VEVENT
DTSTART;TZID=Europe/Berlin:20260324T131500
DTEND;TZID=Europe/Berlin:20260324T131500
DTSTAMP:20260419T155906
CREATED:20260219T075849Z
LAST-MODIFIED:20260219T075849Z
UID:2905-1774358100-1774358100@www.graue-panther-so.ch
SUMMARY:Wanderung
DESCRIPTION:Ab Solothurn nach Luterbach\, Kraftwerk 13.36 Uhr Kante A / Bus 9 / Ticket 2 Zonen\nCa. 1 Std 25 / 4\,30 km alles Flach.\nGemütliches Beisammensein im Rest. Krone Luterbach. (Rückfahrt 2 Zonen) \nAuskunft erteilen:  Bruno Lisser Tel: 079/ 894 13 25\nAnton Flury Tel: 079/ 551 86 76
URL:https://www.graue-panther-so.ch/event/wanderung-12/
LOCATION:Solothurn HB
END:VEVENT
BEGIN:VEVENT
DTSTART;TZID=Europe/Berlin:20260324T140000
DTEND;TZID=Europe/Berlin:20260324T140000
DTSTAMP:20260419T155906
CREATED:20260219T080430Z
LAST-MODIFIED:20260219T080430Z
UID:2909-1774360800-1774360800@www.graue-panther-so.ch
SUMMARY:Spaziergang
DESCRIPTION:Spazierroute wird jeweils vor Ort festgelegt. \nAuskunft erteilt Roland Känel\, Tel. 079 633 75 56
URL:https://www.graue-panther-so.ch/event/spaziergang-22/
LOCATION:Gewerbeschulhaus; Fussgängerbrücke
END:VEVENT
END:VCALENDAR