BEGIN:VCALENDAR
VERSION:2.0
PRODID:-//Graue Panther - ECPv6.15.16//NONSGML v1.0//EN
CALSCALE:GREGORIAN
METHOD:PUBLISH
X-WR-CALNAME:Graue Panther
X-ORIGINAL-URL:https://www.graue-panther-so.ch
X-WR-CALDESC:Veranstaltungen für Graue Panther
REFRESH-INTERVAL;VALUE=DURATION:PT1H
X-Robots-Tag:noindex
X-PUBLISHED-TTL:PT1H
BEGIN:VTIMEZONE
TZID:Europe/Berlin
BEGIN:DAYLIGHT
TZOFFSETFROM:+0100
TZOFFSETTO:+0200
TZNAME:CEST
DTSTART:20250330T010000
END:DAYLIGHT
BEGIN:STANDARD
TZOFFSETFROM:+0200
TZOFFSETTO:+0100
TZNAME:CET
DTSTART:20251026T010000
END:STANDARD
BEGIN:DAYLIGHT
TZOFFSETFROM:+0100
TZOFFSETTO:+0200
TZNAME:CEST
DTSTART:20260329T010000
END:DAYLIGHT
BEGIN:STANDARD
TZOFFSETFROM:+0200
TZOFFSETTO:+0100
TZNAME:CET
DTSTART:20261025T010000
END:STANDARD
BEGIN:DAYLIGHT
TZOFFSETFROM:+0100
TZOFFSETTO:+0200
TZNAME:CEST
DTSTART:20270328T010000
END:DAYLIGHT
BEGIN:STANDARD
TZOFFSETFROM:+0200
TZOFFSETTO:+0100
TZNAME:CET
DTSTART:20271031T010000
END:STANDARD
END:VTIMEZONE
BEGIN:VEVENT
DTSTART;TZID=Europe/Berlin:20260310T143000
DTEND;TZID=Europe/Berlin:20260310T143000
DTSTAMP:20260419T155908
CREATED:20260219T073711Z
LAST-MODIFIED:20260219T073711Z
UID:2891-1773153000-1773153000@www.graue-panther-so.ch
SUMMARY:Vortrag: Solothurn Tourismus
DESCRIPTION:Bernhard Christen\, Tourismusdirektor\, stellt uns die Stadt Solothurn vor. \nDer Anlass ist öffentlich
URL:https://www.graue-panther-so.ch/event/vortrag-solothurn-tourismus/
LOCATION:Christ. Kath. Pfarreisaal – Rathausgasse 17
END:VEVENT
END:VCALENDAR