BEGIN:VCALENDAR
VERSION:2.0
PRODID:-//Graue Panther - ECPv6.15.16//NONSGML v1.0//EN
CALSCALE:GREGORIAN
METHOD:PUBLISH
X-WR-CALNAME:Graue Panther
X-ORIGINAL-URL:https://www.graue-panther-so.ch
X-WR-CALDESC:Veranstaltungen für Graue Panther
REFRESH-INTERVAL;VALUE=DURATION:PT1H
X-Robots-Tag:noindex
X-PUBLISHED-TTL:PT1H
BEGIN:VTIMEZONE
TZID:Europe/Berlin
BEGIN:DAYLIGHT
TZOFFSETFROM:+0100
TZOFFSETTO:+0200
TZNAME:CEST
DTSTART:20250330T010000
END:DAYLIGHT
BEGIN:STANDARD
TZOFFSETFROM:+0200
TZOFFSETTO:+0100
TZNAME:CET
DTSTART:20251026T010000
END:STANDARD
BEGIN:DAYLIGHT
TZOFFSETFROM:+0100
TZOFFSETTO:+0200
TZNAME:CEST
DTSTART:20260329T010000
END:DAYLIGHT
BEGIN:STANDARD
TZOFFSETFROM:+0200
TZOFFSETTO:+0100
TZNAME:CET
DTSTART:20261025T010000
END:STANDARD
BEGIN:DAYLIGHT
TZOFFSETFROM:+0100
TZOFFSETTO:+0200
TZNAME:CEST
DTSTART:20270328T010000
END:DAYLIGHT
BEGIN:STANDARD
TZOFFSETFROM:+0200
TZOFFSETTO:+0100
TZNAME:CET
DTSTART:20271031T010000
END:STANDARD
END:VTIMEZONE
BEGIN:VEVENT
DTSTART;TZID=Europe/Berlin:20260303T143000
DTEND;TZID=Europe/Berlin:20260303T143000
DTSTAMP:20260419T155404
CREATED:20260219T072117Z
LAST-MODIFIED:20260219T072836Z
UID:2881-1772548200-1772548200@www.graue-panther-so.ch
SUMMARY:Neue Billetautomaten (Einführungskurs)
DESCRIPTION:Dienstag\, 3. März und 17. März je 14:30 Uhr. Ort: Busgarage BSU Zuchwil / Nächstgelegene Haltestelle Derendingen\, Kreuzplatz:\n(Linien 1\, 5\, 7)\, ca. 6-7 Minuten Fussweg).\nAnmeldefrist: Mittwoch\, 25. Februar 2026\nuhlmann.andreas@bluewin.ch / Tel. 076 541 11 51 oder per WhatsApp.\nAn diesen beiden Tagen finden keine anderen Anlässe statt.
URL:https://www.graue-panther-so.ch/event/neue-billetautomaten-einfuehrungskurs/
LOCATION:Busgarage BSU Zuchwil
END:VEVENT
END:VCALENDAR