BEGIN:VCALENDAR
VERSION:2.0
PRODID:-//Graue Panther - ECPv6.15.16//NONSGML v1.0//EN
CALSCALE:GREGORIAN
METHOD:PUBLISH
X-ORIGINAL-URL:https://www.graue-panther-so.ch
X-WR-CALDESC:Veranstaltungen für Graue Panther
REFRESH-INTERVAL;VALUE=DURATION:PT1H
X-Robots-Tag:noindex
X-PUBLISHED-TTL:PT1H
BEGIN:VTIMEZONE
TZID:Europe/Berlin
BEGIN:DAYLIGHT
TZOFFSETFROM:+0100
TZOFFSETTO:+0200
TZNAME:CEST
DTSTART:20240331T010000
END:DAYLIGHT
BEGIN:STANDARD
TZOFFSETFROM:+0200
TZOFFSETTO:+0100
TZNAME:CET
DTSTART:20241027T010000
END:STANDARD
BEGIN:DAYLIGHT
TZOFFSETFROM:+0100
TZOFFSETTO:+0200
TZNAME:CEST
DTSTART:20250330T010000
END:DAYLIGHT
BEGIN:STANDARD
TZOFFSETFROM:+0200
TZOFFSETTO:+0100
TZNAME:CET
DTSTART:20251026T010000
END:STANDARD
BEGIN:DAYLIGHT
TZOFFSETFROM:+0100
TZOFFSETTO:+0200
TZNAME:CEST
DTSTART:20260329T010000
END:DAYLIGHT
BEGIN:STANDARD
TZOFFSETFROM:+0200
TZOFFSETTO:+0100
TZNAME:CET
DTSTART:20261025T010000
END:STANDARD
END:VTIMEZONE
BEGIN:VEVENT
DTSTART;TZID=Europe/Berlin:20250902T130000
DTEND;TZID=Europe/Berlin:20250902T130000
DTSTAMP:20260420T011040
CREATED:20250811T135717Z
LAST-MODIFIED:20250811T135717Z
UID:2825-1756818000-1756818000@www.graue-panther-so.ch
SUMMARY:Wanderung
DESCRIPTION:Treffpunkt: Vor der Unterführungstreppe Hauptbahnhof Solothurn ca. 13:10\nAbfahrt nach Lommiswil im Holz 13.31 Uhr Gleis 3 E-G (2 Zonen).\nWanderung ca. 1 Std 25. 4.1 km alles abwärts 130 m.\nGemütliches Beisammensein im Rest. Traube in Langendorf. (Rückfahrt 2 Zonen mit Bus). \nAuskunft erteilt Bruno Lisser Tel. 079 894 13 25  oder  Anton Flury Tel. 079 551 86 76
URL:https://www.graue-panther-so.ch/event/wanderung-9/
LOCATION:Solothurn HB
END:VEVENT
BEGIN:VEVENT
DTSTART;TZID=Europe/Berlin:20250902T140000
DTEND;TZID=Europe/Berlin:20250902T140000
DTSTAMP:20260420T011040
CREATED:20250811T133242Z
LAST-MODIFIED:20250811T133242Z
UID:2807-1756821600-1756821600@www.graue-panther-so.ch
SUMMARY:Spaziergang
DESCRIPTION:Spazierroute wird jeweils vor Ort festgelegt. \nAuskunft erteilt Roland Känel\, Tel. 079 633 75 56
URL:https://www.graue-panther-so.ch/event/spaziergang-14/
LOCATION:Gewerbeschulhaus; Fussgängerbrücke
END:VEVENT
END:VCALENDAR