BEGIN:VCALENDAR
VERSION:2.0
PRODID:-//Graue Panther - ECPv6.15.16//NONSGML v1.0//EN
CALSCALE:GREGORIAN
METHOD:PUBLISH
X-WR-CALNAME:Graue Panther
X-ORIGINAL-URL:https://www.graue-panther-so.ch
X-WR-CALDESC:Veranstaltungen für Graue Panther
REFRESH-INTERVAL;VALUE=DURATION:PT1H
X-Robots-Tag:noindex
X-PUBLISHED-TTL:PT1H
BEGIN:VTIMEZONE
TZID:Europe/Berlin
BEGIN:DAYLIGHT
TZOFFSETFROM:+0100
TZOFFSETTO:+0200
TZNAME:CEST
DTSTART:20240331T010000
END:DAYLIGHT
BEGIN:STANDARD
TZOFFSETFROM:+0200
TZOFFSETTO:+0100
TZNAME:CET
DTSTART:20241027T010000
END:STANDARD
BEGIN:DAYLIGHT
TZOFFSETFROM:+0100
TZOFFSETTO:+0200
TZNAME:CEST
DTSTART:20250330T010000
END:DAYLIGHT
BEGIN:STANDARD
TZOFFSETFROM:+0200
TZOFFSETTO:+0100
TZNAME:CET
DTSTART:20251026T010000
END:STANDARD
BEGIN:DAYLIGHT
TZOFFSETFROM:+0100
TZOFFSETTO:+0200
TZNAME:CEST
DTSTART:20260329T010000
END:DAYLIGHT
BEGIN:STANDARD
TZOFFSETFROM:+0200
TZOFFSETTO:+0100
TZNAME:CET
DTSTART:20261025T010000
END:STANDARD
END:VTIMEZONE
BEGIN:VEVENT
DTSTART;TZID=Europe/Berlin:20250624T133000
DTEND;TZID=Europe/Berlin:20250624T133000
DTSTAMP:20260420T053900
CREATED:20250317T170858Z
LAST-MODIFIED:20250317T170952Z
UID:2739-1750771800-1750771800@www.graue-panther-so.ch
SUMMARY:Wanderung
DESCRIPTION:Abfahrt nach Riedholz 13:15 Uhr Gleis 21 (Bipperlisi) (Zone 2)\, Ca. 1 Std. 40 Min.\, Distanz: 5\,3 km\,\nGemütliches Beisammensein im Restaurant Fleur de Soleure in Zuchwil. \nAuskunft erteilen Bruno Lisser Tel: 079/ 894 13 25 oder Anton Flury Tel: 079/ 551 86 76
URL:https://www.graue-panther-so.ch/event/wanderung-7/
LOCATION:Solothurn HB
END:VEVENT
BEGIN:VEVENT
DTSTART;TZID=Europe/Berlin:20250624T140000
DTEND;TZID=Europe/Berlin:20250624T140000
DTSTAMP:20260420T053900
CREATED:20250317T171708Z
LAST-MODIFIED:20250317T171708Z
UID:2748-1750773600-1750773600@www.graue-panther-so.ch
SUMMARY:Spaziergang
DESCRIPTION:Spazierroute wird jeweils vor Ort festgelegt. \nAuskunft erteilt Roland Känel\, Tel. 079 633 75 56
URL:https://www.graue-panther-so.ch/event/spaziergang-10/
LOCATION:Gewerbeschulhaus; Fussgängerbrücke
END:VEVENT
END:VCALENDAR